BEGIN:VCALENDAR
VERSION:2.0
PRODID:icalendar-ruby
CALSCALE:GREGORIAN
METHOD:PUBLISH
BEGIN:VEVENT
DTSTAMP:20260423T180247Z
UID:9-548708@shearerpca.org
DTSTART:20261104T230000Z
DTEND:20261105T000000Z
CLASS:PUBLIC
CREATED:20260423T135943
DESCRIPTION:On Wednesdays\, members of the church meet to fellowship\, pray
 \, and learn with one another from 6:00 - 7:00 pm. When scheduled\, choir
  rehearsal takes place after the Prayer Meeting.
LAST-MODIFIED:20260423T135943
LOCATION:Sanctuary
SUMMARY:Prayer Meeting
URL;VALUE=URI:https://shearerpca.org/events/prayer-meeting/2026-11-04
END:VEVENT
END:VCALENDAR
